BEGIN:VCALENDAR
VERSION:2.0
PRODID:-//Ranch and Farm Auctions//Auction Calendar//EN
BEGIN:VEVENT
UID:event-442@ranchandfarmauctions.com
DTSTAMP:20260423T114709Z
DTSTART:20260105T160000Z
DTEND:20260105T170000Z
SUMMARY:Auction for Barton Co MO 78.49± Acres In 2 Tracts by Ranch and Farm Auctions
DESCRIPTION:Auction for Barton Co MO 78.49± Acres In 2 Tracts by Ranch and Farm Auctions.
Type: Live With Online Bidding
Tracts: 2
Location: Thiebaud Auditorium, 105 E 11th St Lamar MO 64759
View Auction: https://ranchandfarmauctions.com/auction-event/barton-co-mo-7849-acres-in-2-tracts
LOCATION:Thiebaud Auditorium, 105 E 11th St Lamar MO 64759
URL;VALUE=URI:https://ranchandfarmauctions.com/auction-event/barton-co-mo-7849-acres-in-2-tracts
END:VEVENT
END:VCALENDAR
