BEGIN:VCALENDAR
VERSION:2.0
PRODID:-//Ranch and Farm Auctions//Auction Calendar//EN
BEGIN:VEVENT
UID:event-384@ranchandfarmauctions.com
DTSTAMP:20260422T043050Z
DTSTART:20250918T160000Z
DTEND:20250918T170000Z
SUMMARY:Auction for Beaver Co OK 468± Acres In 3 Tracts by Ranch and Farm Auctions
DESCRIPTION:Auction for Beaver Co OK 468± Acres In 3 Tracts by Ranch and Farm Auctions.
Type: Live With Online Bidding
Tracts: 3
Location: SOLD PRE-AUCTION, 104 S Main St Turpin OK 73950
View Auction: https://ranchandfarmauctions.com/auction-event/beaver-co-ok-468-acres-in-3-tracts
LOCATION:SOLD PRE-AUCTION, 104 S Main St Turpin OK 73950
URL;VALUE=URI:https://ranchandfarmauctions.com/auction-event/beaver-co-ok-468-acres-in-3-tracts
END:VEVENT
END:VCALENDAR
