BEGIN:VCALENDAR
VERSION:2.0
PRODID:-//Ranch and Farm Auctions//Auction Calendar//EN
BEGIN:VEVENT
UID:event-492@ranchandfarmauctions.com
DTSTAMP:20260421T231034Z
DTSTART:20260421T183000Z
DTEND:20260421T193000Z
SUMMARY:Auction for Brown Co KS 153.3± Acres In 1 Tract by Ranch and Farm Auctions
DESCRIPTION:Auction for Brown Co KS 153.3± Acres In 1 Tract by Ranch and Farm Auctions.
Type: Live With Online Bidding
Tracts: 1
Location: Fisher Center, 201 E Iowa St Hiawatha KS 66434
View Auction: https://ranchandfarmauctions.com/auction-event/brown-co-ks-1533-acres-in-1-tract
LOCATION:Fisher Center, 201 E Iowa St Hiawatha KS 66434
URL;VALUE=URI:https://ranchandfarmauctions.com/auction-event/brown-co-ks-1533-acres-in-1-tract
END:VEVENT
END:VCALENDAR
