BEGIN:VCALENDAR
VERSION:2.0
PRODID:-//Ranch and Farm Auctions//Auction Calendar//EN
BEGIN:VEVENT
UID:event-406@ranchandfarmauctions.com
DTSTAMP:20260422T043748Z
DTSTART:20251104T220000Z
DTEND:20251104T230000Z
SUMMARY:Auction for Butler Co KY 282± Acres In 9 Tracts by Ranch and Farm Auctions
DESCRIPTION:Auction for Butler Co KY 282± Acres In 9 Tracts by Ranch and Farm Auctions.
Type: Live With Online Bidding
Tracts: 9
Location: Onsite, 167 Caneyville Rd Roundhill KY 42275
View Auction: https://ranchandfarmauctions.com/auction-event/butler-co-ky-282-acres-in-9-tracts
LOCATION:Onsite, 167 Caneyville Rd Roundhill KY 42275
URL;VALUE=URI:https://ranchandfarmauctions.com/auction-event/butler-co-ky-282-acres-in-9-tracts
END:VEVENT
END:VCALENDAR
