BEGIN:VCALENDAR
VERSION:2.0
PRODID:-//Ranch and Farm Auctions//Auction Calendar//EN
BEGIN:VEVENT
UID:event-433@ranchandfarmauctions.com
DTSTAMP:20260421T090311Z
DTSTART:20251210T193000Z
DTEND:20251210T203000Z
SUMMARY:Auction for Butte Co SD 422± Acres In 3 Tracts by Ranch and Farm Auctions
DESCRIPTION:Auction for Butte Co SD 422± Acres In 3 Tracts by Ranch and Farm Auctions.
Type: Live With Online Bidding
Tracts: 3
Location: Community Hall, 512 6th Ave Belle Fourche SD 57717
View Auction: https://ranchandfarmauctions.com/auction-event/butte-co-sd-422-acres-in-3-tracts
LOCATION:Community Hall, 512 6th Ave Belle Fourche SD 57717
URL;VALUE=URI:https://ranchandfarmauctions.com/auction-event/butte-co-sd-422-acres-in-3-tracts
END:VEVENT
END:VCALENDAR
