BEGIN:VCALENDAR
VERSION:2.0
PRODID:-//Ranch and Farm Auctions//Auction Calendar//EN
BEGIN:VEVENT
UID:event-416@ranchandfarmauctions.com
DTSTAMP:20260422T110205Z
DTSTART:20251204T170000Z
DTEND:20251204T180000Z
SUMMARY:Auction for Cedar & Dixon Co NE 383.59± Acres In 1 Tract by Ranch and Farm Auctions
DESCRIPTION:Auction for Cedar & Dixon Co NE 383.59± Acres In 1 Tract by Ranch and Farm Auctions.
Type: Live With Online Bidding
Tracts: 2
Location: Laurel Community Center, 302 E 2nd St Laurel NE 68745
View Auction: https://ranchandfarmauctions.com/auction-event/cedar-dixon-co-ne-38359-acres-in-1-tract
LOCATION:Laurel Community Center, 302 E 2nd St Laurel NE 68745
URL;VALUE=URI:https://ranchandfarmauctions.com/auction-event/cedar-dixon-co-ne-38359-acres-in-1-tract
END:VEVENT
END:VCALENDAR
