BEGIN:VCALENDAR
VERSION:2.0
PRODID:-//Ranch and Farm Auctions//Auction Calendar//EN
BEGIN:VEVENT
UID:event-468@ranchandfarmauctions.com
DTSTAMP:20260423T174406Z
DTSTART:20260305T170000Z
DTEND:20260305T180000Z
SUMMARY:Auction for Clay Co MS 775± Acres In 2 Tracts by Ranch and Farm Auctions
DESCRIPTION:Auction for Clay Co MS 775± Acres In 2 Tracts by Ranch and Farm Auctions.
Type: Live With Online Bidding
Tracts: 2
Location: Prairie Wildlife, 3990 Old Vinton Rd West Point MS 39773
View Auction: https://ranchandfarmauctions.com/auction-event/clay-co-ms-775-acres-in-2-tracts
LOCATION:Prairie Wildlife, 3990 Old Vinton Rd West Point MS 39773
URL;VALUE=URI:https://ranchandfarmauctions.com/auction-event/clay-co-ms-775-acres-in-2-tracts
END:VEVENT
END:VCALENDAR
