BEGIN:VCALENDAR
VERSION:2.0
PRODID:-//Ranch and Farm Auctions//Auction Calendar//EN
BEGIN:VEVENT
UID:event-495@ranchandfarmauctions.com
DTSTAMP:20260422T015659Z
DTSTART:20260429T213000Z
DTEND:20260429T223000Z
SUMMARY:Auction for Clermont Co OH 73.57± Acres In 1 Tract by Ranch and Farm Auctions
DESCRIPTION:Auction for Clermont Co OH 73.57± Acres In 1 Tract by Ranch and Farm Auctions.
Type: Live With Online Bidding
Tracts: 1
Location: Onsite, 9999 Taylor Pike Blanchester OH 45107
View Auction: https://ranchandfarmauctions.com/auction-event/clermont-co-oh-7357-acres-in-1-tract
LOCATION:Onsite, 9999 Taylor Pike Blanchester OH 45107
URL;VALUE=URI:https://ranchandfarmauctions.com/auction-event/clermont-co-oh-7357-acres-in-1-tract
END:VEVENT
END:VCALENDAR
