BEGIN:VCALENDAR
VERSION:2.0
PRODID:-//Ranch and Farm Auctions//Auction Calendar//EN
BEGIN:VEVENT
UID:event-496@ranchandfarmauctions.com
DTSTAMP:20260422T222754Z
DTSTART:20260511T160000Z
DTEND:20260511T170000Z
SUMMARY:Auction for Comanche Co OK 240± Acres In 4 Tracts by Ranch and Farm Auctions
DESCRIPTION:Auction for Comanche Co OK 240± Acres In 4 Tracts by Ranch and Farm Auctions.
Type: Live With Online Bidding
Tracts: 4
Location: Hilton Garden Inn, 135 NW 2nd St Lawton OK 73501
View Auction: https://ranchandfarmauctions.com/auction-event/comanche-co-ok-240-acres-in-4-tracts
LOCATION:Hilton Garden Inn, 135 NW 2nd St Lawton OK 73501
URL;VALUE=URI:https://ranchandfarmauctions.com/auction-event/comanche-co-ok-240-acres-in-4-tracts
END:VEVENT
END:VCALENDAR
