BEGIN:VCALENDAR
VERSION:2.0
PRODID:-//Ranch and Farm Auctions//Auction Calendar//EN
BEGIN:VEVENT
UID:event-407@ranchandfarmauctions.com
DTSTAMP:20260421T075622Z
DTSTART:20251105T210000Z
DTEND:20251105T220000Z
SUMMARY:Auction for Crittenden Co KY 588.449 ± Acres In 7 Tracts by Ranch and Farm Auctions
DESCRIPTION:Auction for Crittenden Co KY 588.449 ± Acres In 7 Tracts by Ranch and Farm Auctions.
Type: Live With Online Bidding
Tracts: 7
Location: Fohs Hall, 201 N Walker St Marion KY 42064
View Auction: https://ranchandfarmauctions.com/auction-event/crittenden-co-ky-588449-acres-in-7-tracts
LOCATION:Fohs Hall, 201 N Walker St Marion KY 42064
URL;VALUE=URI:https://ranchandfarmauctions.com/auction-event/crittenden-co-ky-588449-acres-in-7-tracts
END:VEVENT
END:VCALENDAR
