BEGIN:VCALENDAR
VERSION:2.0
PRODID:-//Ranch and Farm Auctions//Auction Calendar//EN
BEGIN:VEVENT
UID:event-412@ranchandfarmauctions.com
DTSTAMP:20260421T080123Z
DTSTART:20251117T170000Z
DTEND:20251117T180000Z
SUMMARY:Auction for DeKalb Co IL 189.79± Acres In 3 Tracts by Ranch and Farm Auctions
DESCRIPTION:Auction for DeKalb Co IL 189.79± Acres In 3 Tracts by Ranch and Farm Auctions.
Type: Live With Online Bidding
Tracts: 3
Location: Indian Oaks Country Club, 603 Preserve Rd Shabbona IL 60050
View Auction: https://ranchandfarmauctions.com/auction-event/dekalb-co-il-18979-acres-in-3-tracts
LOCATION:Indian Oaks Country Club, 603 Preserve Rd Shabbona IL 60050
URL;VALUE=URI:https://ranchandfarmauctions.com/auction-event/dekalb-co-il-18979-acres-in-3-tracts
END:VEVENT
END:VCALENDAR
