BEGIN:VCALENDAR
VERSION:2.0
PRODID:-//Ranch and Farm Auctions//Auction Calendar//EN
BEGIN:VEVENT
UID:event-438@ranchandfarmauctions.com
DTSTAMP:20260423T114510Z
DTSTART:20260107T160000Z
DTEND:20260107T170000Z
SUMMARY:Auction for Edmunds Co SD 159.5± Acres In 1 Tract by Ranch and Farm Auctions
DESCRIPTION:Auction for Edmunds Co SD 159.5± Acres In 1 Tract by Ranch and Farm Auctions.
Type: Live With Online Bidding
Tracts: 1
Location: American Legion, 105 8th Ave Faulkton SD 57438
View Auction: https://ranchandfarmauctions.com/auction-event/edmunds-co-sd-1595-acres-in-1-tract
LOCATION:American Legion, 105 8th Ave Faulkton SD 57438
URL;VALUE=URI:https://ranchandfarmauctions.com/auction-event/edmunds-co-sd-1595-acres-in-1-tract
END:VEVENT
END:VCALENDAR
