BEGIN:VCALENDAR
VERSION:2.0
PRODID:-//Ranch and Farm Auctions//Auction Calendar//EN
BEGIN:VEVENT
UID:event-138@ranchandfarmauctions.com
DTSTAMP:20260422T015839Z
DTSTART:20250602T180000Z
DTEND:20250602T190000Z
SUMMARY:Auction for Fayette Co IL 120± Acres In 5 Tracts by Ranch and Farm Auctions
DESCRIPTION:Auction for Fayette Co IL 120± Acres In 5 Tracts by Ranch and Farm Auctions.
Type: Live With Online Bidding
Tracts: 5
Location: Holiday Inn Express, 21 Mattes Avenue Vandalia IL 62471
View Auction: https://ranchandfarmauctions.com/auction-event/fayette-co-il-120-acres-in-5-tracts
LOCATION:Holiday Inn Express, 21 Mattes Avenue Vandalia IL 62471
URL;VALUE=URI:https://ranchandfarmauctions.com/auction-event/fayette-co-il-120-acres-in-5-tracts
END:VEVENT
END:VCALENDAR
