BEGIN:VCALENDAR
VERSION:2.0
PRODID:-//Ranch and Farm Auctions//Auction Calendar//EN
BEGIN:VEVENT
UID:event-410@ranchandfarmauctions.com
DTSTAMP:20260421T090721Z
DTSTART:20251106T190000Z
DTEND:20251106T200000Z
SUMMARY:Auction for Franklin Co TN 70.95± Acres In 5 Tracts by Ranch and Farm Auctions
DESCRIPTION:Auction for Franklin Co TN 70.95± Acres In 5 Tracts by Ranch and Farm Auctions.
Type: Live With Online Bidding
Tracts: 5
Location: Onsite, 2301 Old Estill Springs Rd Winchester TN 37398
View Auction: https://ranchandfarmauctions.com/auction-event/franklin-co-tn-7095-acres-in-5-tracts
LOCATION:Onsite, 2301 Old Estill Springs Rd Winchester TN 37398
URL;VALUE=URI:https://ranchandfarmauctions.com/auction-event/franklin-co-tn-7095-acres-in-5-tracts
END:VEVENT
END:VCALENDAR
