BEGIN:VCALENDAR
VERSION:2.0
PRODID:-//Ranch and Farm Auctions//Auction Calendar//EN
BEGIN:VEVENT
UID:event-503@ranchandfarmauctions.com
DTSTAMP:20260424T022209Z
DTSTART:20260609T160000Z
DTEND:20260609T170000Z
SUMMARY:Auction for Grant Co WI 46.37± Acres In 2 Tracts by Ranch and Farm Auctions
DESCRIPTION:Auction for Grant Co WI 46.37± Acres In 2 Tracts by Ranch and Farm Auctions.
Type: Live With Online Bidding
Tracts: 2
Location: Lancaster Country Club, 5 Golf Rd Lancaster WI 53813
View Auction: https://ranchandfarmauctions.com/auction-event/grant-co-wi-4637-acres-in-2-tracts
LOCATION:Lancaster Country Club, 5 Golf Rd Lancaster WI 53813
URL;VALUE=URI:https://ranchandfarmauctions.com/auction-event/grant-co-wi-4637-acres-in-2-tracts
END:VEVENT
END:VCALENDAR
