BEGIN:VCALENDAR
VERSION:2.0
PRODID:-//Ranch and Farm Auctions//Auction Calendar//EN
BEGIN:VEVENT
UID:event-58@ranchandfarmauctions.com
DTSTAMP:20260421T160532Z
DTSTART:20250425T140000Z
DTEND:20250425T150000Z
SUMMARY:Auction for Greene Co IN 129.65 ± Acres In 2 Tracts by Ranch and Farm Auctions
DESCRIPTION:Auction for Greene Co IN 129.65 ± Acres In 2 Tracts by Ranch and Farm Auctions.
Type: Live With Online Bidding
Tracts: 2
Location: Lyons Community Building, 600 W Broad St Lyons IN 47443
View Auction: https://ranchandfarmauctions.com/auction-event/greene-co-in-12965-acres-in-2-tracts
LOCATION:Lyons Community Building, 600 W Broad St Lyons IN 47443
URL;VALUE=URI:https://ranchandfarmauctions.com/auction-event/greene-co-in-12965-acres-in-2-tracts
END:VEVENT
END:VCALENDAR
