BEGIN:VCALENDAR
VERSION:2.0
PRODID:-//Ranch and Farm Auctions//Auction Calendar//EN
BEGIN:VEVENT
UID:event-425@ranchandfarmauctions.com
DTSTAMP:20260421T090421Z
DTSTART:20251119T200000Z
DTEND:20251119T210000Z
SUMMARY:Auction for Greene Co IN 245.815± Acres In 3 Tracts by Ranch and Farm Auctions
DESCRIPTION:Auction for Greene Co IN 245.815± Acres In 3 Tracts by Ranch and Farm Auctions.
Type: Live With Online Bidding
Tracts: 3
Location: American Legion, 109 S Commercial St Worthington IN 47471
View Auction: https://ranchandfarmauctions.com/auction-event/greene-co-in-245815-acres-in-3-tracts
LOCATION:American Legion, 109 S Commercial St Worthington IN 47471
URL;VALUE=URI:https://ranchandfarmauctions.com/auction-event/greene-co-in-245815-acres-in-3-tracts
END:VEVENT
END:VCALENDAR
