BEGIN:VCALENDAR
VERSION:2.0
PRODID:-//Ranch and Farm Auctions//Auction Calendar//EN
BEGIN:VEVENT
UID:event-186@ranchandfarmauctions.com
DTSTAMP:20260423T144138Z
DTSTART:20250620T180000Z
DTEND:20250620T190000Z
SUMMARY:Auction for Greene Co MO 52± Acres In 5 Tracts by Ranch and Farm Auctions
DESCRIPTION:Auction for Greene Co MO 52± Acres In 5 Tracts by Ranch and Farm Auctions.
Type: Live With Online Bidding
Tracts: 5
Location: Soaring Eagle Farm Event Center, 1865 South Berkshire Springfield MO 65809
View Auction: https://ranchandfarmauctions.com/auction-event/greene-co-mo-52-acres-in-5-tracts
LOCATION:Soaring Eagle Farm Event Center, 1865 South Berkshire Springfield MO 65809
URL;VALUE=URI:https://ranchandfarmauctions.com/auction-event/greene-co-mo-52-acres-in-5-tracts
END:VEVENT
END:VCALENDAR
