BEGIN:VCALENDAR
VERSION:2.0
PRODID:-//Ranch and Farm Auctions//Auction Calendar//EN
BEGIN:VEVENT
UID:event-389@ranchandfarmauctions.com
DTSTAMP:20260422T030350Z
DTSTART:20251002T180000Z
DTEND:20251002T190000Z
SUMMARY:Auction for Grundy Co MO 8.59± Acres In 1 Tract by Ranch and Farm Auctions
DESCRIPTION:Auction for Grundy Co MO 8.59± Acres In 1 Tract by Ranch and Farm Auctions.
Type: Live With Online Bidding
Tracts: 1
Location: Onsite, 1601 Park Lane Drive Trenton MO 64683
View Auction: https://ranchandfarmauctions.com/auction-event/grundy-co-mo-859-acres-in-1-tract
LOCATION:Onsite, 1601 Park Lane Drive Trenton MO 64683
URL;VALUE=URI:https://ranchandfarmauctions.com/auction-event/grundy-co-mo-859-acres-in-1-tract
END:VEVENT
END:VCALENDAR
