BEGIN:VCALENDAR
VERSION:2.0
PRODID:-//Ranch and Farm Auctions//Auction Calendar//EN
BEGIN:VEVENT
UID:event-6@ranchandfarmauctions.com
DTSTAMP:20260423T174522Z
DTSTART:20250206T210000Z
DTEND:20250206T220000Z
SUMMARY:Auction for Harlan Co NE & Phillips Co KS 1621.72 +/- Acres in 3 tracts by Ranch and Farm Auctions
DESCRIPTION:Auction for Harlan Co NE & Phillips Co KS 1621.72 +/- Acres in 3 tracts by Ranch and Farm Auctions.
Type: Live With Online Bidding
Tracts: 3
Location: Johnson Community Center, 614 Main Street Alma NE 68920
View Auction: https://ranchandfarmauctions.com/auction-event/harlan-co-ne-phillips-co-ks-162172-acres-in-3-tracts
LOCATION:Johnson Community Center, 614 Main Street Alma NE 68920
URL;VALUE=URI:https://ranchandfarmauctions.com/auction-event/harlan-co-ne-phillips-co-ks-162172-acres-in-3-tracts
END:VEVENT
END:VCALENDAR
