BEGIN:VCALENDAR
VERSION:2.0
PRODID:-//Ranch and Farm Auctions//Auction Calendar//EN
BEGIN:VEVENT
UID:event-64@ranchandfarmauctions.com
DTSTAMP:20260422T015342Z
DTSTART:20250512T200000Z
DTEND:20250512T210000Z
SUMMARY:Auction for Harrison Co KY 89.6721 ± Acres In 1 Tract by Ranch and Farm Auctions
DESCRIPTION:Auction for Harrison Co KY 89.6721 ± Acres In 1 Tract by Ranch and Farm Auctions.
Type: Live With Online Bidding
Tracts: 1
Location: City Hall Gym, 104 E Pleasant Street Cynthiana KY 41031
View Auction: https://ranchandfarmauctions.com/auction-event/harrison-co-ky-896721-acres-in-1-tract
LOCATION:City Hall Gym, 104 E Pleasant Street Cynthiana KY 41031
URL;VALUE=URI:https://ranchandfarmauctions.com/auction-event/harrison-co-ky-896721-acres-in-1-tract
END:VEVENT
END:VCALENDAR
