BEGIN:VCALENDAR
VERSION:2.0
PRODID:-//Ranch and Farm Auctions//Auction Calendar//EN
BEGIN:VEVENT
UID:event-441@ranchandfarmauctions.com
DTSTAMP:20260422T001018Z
DTSTART:20260106T170000Z
DTEND:20260106T180000Z
SUMMARY:Auction for Henderson Co IL 77.44± Acres In 1 Tract by Ranch and Farm Auctions
DESCRIPTION:Auction for Henderson Co IL 77.44± Acres In 1 Tract by Ranch and Farm Auctions.
Type: Live With Online Bidding
Tracts: 1
Location: The Barn at Fairview Acres, 1632 St Hwy 94 Biggsville IL 61418
View Auction: https://ranchandfarmauctions.com/auction-event/henderson-co-il-7744-acres-in-1-tract
LOCATION:The Barn at Fairview Acres, 1632 St Hwy 94 Biggsville IL 61418
URL;VALUE=URI:https://ranchandfarmauctions.com/auction-event/henderson-co-il-7744-acres-in-1-tract
END:VEVENT
END:VCALENDAR
