BEGIN:VCALENDAR
VERSION:2.0
PRODID:-//Ranch and Farm Auctions//Auction Calendar//EN
BEGIN:VEVENT
UID:event-423@ranchandfarmauctions.com
DTSTAMP:20260421T090931Z
DTSTART:20251201T160000Z
DTEND:20251201T170000Z
SUMMARY:Auction for Henry Co IN 56.769± Acres In 1 Tract by Ranch and Farm Auctions
DESCRIPTION:Auction for Henry Co IN 56.769± Acres In 1 Tract by Ranch and Farm Auctions.
Type: Live With Online Bidding
Tracts: 1
Location: The Meeting Place, 11 E Main St Hagerstown IN 47346
View Auction: https://ranchandfarmauctions.com/auction-event/henry-co-in-56769-acres-in-1-tract
LOCATION:The Meeting Place, 11 E Main St Hagerstown IN 47346
URL;VALUE=URI:https://ranchandfarmauctions.com/auction-event/henry-co-in-56769-acres-in-1-tract
END:VEVENT
END:VCALENDAR
