BEGIN:VCALENDAR
VERSION:2.0
PRODID:-//Ranch and Farm Auctions//Auction Calendar//EN
BEGIN:VEVENT
UID:event-408@ranchandfarmauctions.com
DTSTAMP:20260421T090517Z
DTSTART:20251105T160000Z
DTEND:20251105T170000Z
SUMMARY:Auction for Hopkins Co KY 946.07± Acres In 15 Tracts by Ranch and Farm Auctions
DESCRIPTION:Auction for Hopkins Co KY 946.07± Acres In 15 Tracts by Ranch and Farm Auctions.
Type: Live With Online Bidding
Tracts: 15
Location: Ballard Convention Center, 605 E Arch St Madisonville KY 42431
View Auction: https://ranchandfarmauctions.com/auction-event/hopkins-co-ky-94607-acres-in-15-tracts
LOCATION:Ballard Convention Center, 605 E Arch St Madisonville KY 42431
URL;VALUE=URI:https://ranchandfarmauctions.com/auction-event/hopkins-co-ky-94607-acres-in-15-tracts
END:VEVENT
END:VCALENDAR
