BEGIN:VCALENDAR
VERSION:2.0
PRODID:-//Ranch and Farm Auctions//Auction Calendar//EN
BEGIN:VEVENT
UID:event-443@ranchandfarmauctions.com
DTSTAMP:20260423T073320Z
DTSTART:20260105T160000Z
DTEND:20260105T170000Z
SUMMARY:Auction for Jasper Co MO 158.1± Acres In 1 Tract by Ranch and Farm Auctions
DESCRIPTION:Auction for Jasper Co MO 158.1± Acres In 1 Tract by Ranch and Farm Auctions.
Type: Live With Online Bidding
Tracts: 1
Location: Thiebaud Auditorium, 105 E 11th St Lamar MO 64759
View Auction: https://ranchandfarmauctions.com/auction-event/jasper-co-mo-1581-acres-in-1-tract
LOCATION:Thiebaud Auditorium, 105 E 11th St Lamar MO 64759
URL;VALUE=URI:https://ranchandfarmauctions.com/auction-event/jasper-co-mo-1581-acres-in-1-tract
END:VEVENT
END:VCALENDAR
