BEGIN:VCALENDAR
VERSION:2.0
PRODID:-//Ranch and Farm Auctions//Auction Calendar//EN
BEGIN:VEVENT
UID:event-395@ranchandfarmauctions.com
DTSTAMP:20260421T080209Z
DTSTART:20251029T220000Z
DTEND:20251029T230000Z
SUMMARY:Auction for Johnson Co IL 1310± Acres In 10 Tracts by Ranch and Farm Auctions
DESCRIPTION:Auction for Johnson Co IL 1310± Acres In 10 Tracts by Ranch and Farm Auctions.
Type: Live With Online Bidding
Tracts: 10
Location: Vienna High School, 601 North First Street Vienna IL 62995
View Auction: https://ranchandfarmauctions.com/auction-event/johnson-co-il-1310-acres-in-10-tracts
LOCATION:Vienna High School, 601 North First Street Vienna IL 62995
URL;VALUE=URI:https://ranchandfarmauctions.com/auction-event/johnson-co-il-1310-acres-in-10-tracts
END:VEVENT
END:VCALENDAR
