BEGIN:VCALENDAR
VERSION:2.0
PRODID:-//Ranch and Farm Auctions//Auction Calendar//EN
BEGIN:VEVENT
UID:event-449@ranchandfarmauctions.com
DTSTAMP:20260423T185426Z
DTSTART:20260119T170000Z
DTEND:20260119T180000Z
SUMMARY:Auction for Mason Co IL 137.21± Acres In 2 Tracts by Ranch and Farm Auctions
DESCRIPTION:Auction for Mason Co IL 137.21± Acres In 2 Tracts by Ranch and Farm Auctions.
Type: Live With Online Bidding
Tracts: 2
Location: Easton Fire Department, 102 E Main St Easton IL 62633
View Auction: https://ranchandfarmauctions.com/auction-event/mason-co-il-13721-acres-in-2-tracts
LOCATION:Easton Fire Department, 102 E Main St Easton IL 62633
URL;VALUE=URI:https://ranchandfarmauctions.com/auction-event/mason-co-il-13721-acres-in-2-tracts
END:VEVENT
END:VCALENDAR
