BEGIN:VCALENDAR
VERSION:2.0
PRODID:-//Ranch and Farm Auctions//Auction Calendar//EN
BEGIN:VEVENT
UID:event-434@ranchandfarmauctions.com
DTSTAMP:20260421T075622Z
DTSTART:20251216T170000Z
DTEND:20251216T180000Z
SUMMARY:Auction for Menard Co IL 110.19± Acres In 3 Tracts by Ranch and Farm Auctions
DESCRIPTION:Auction for Menard Co IL 110.19± Acres In 3 Tracts by Ranch and Farm Auctions.
Type: Live With Online Bidding
Tracts: 3
Location: Wankel’s, 18460 IL-97 Petersburg IL 62675
View Auction: https://ranchandfarmauctions.com/auction-event/menard-co-il-11019-acres-in-3-tracts
LOCATION:Wankel’s, 18460 IL-97 Petersburg IL 62675
URL;VALUE=URI:https://ranchandfarmauctions.com/auction-event/menard-co-il-11019-acres-in-3-tracts
END:VEVENT
END:VCALENDAR
