BEGIN:VCALENDAR
VERSION:2.0
PRODID:-//Ranch and Farm Auctions//Auction Calendar//EN
BEGIN:VEVENT
UID:event-500@ranchandfarmauctions.com
DTSTAMP:20260422T103428Z
DTSTART:20260603T150000Z
DTEND:20260603T160000Z
SUMMARY:Auction for Merrick Co NE 45.66± Acres In 1 Tract by Ranch and Farm Auctions
DESCRIPTION:Auction for Merrick Co NE 45.66± Acres In 1 Tract by Ranch and Farm Auctions.
Type: Live With Online Bidding
Tracts: 1
Location: Merrick County Youth & Ag Education Center, 1784 Fairgrounds Road Central City NE 68826
View Auction: https://ranchandfarmauctions.com/auction-event/merrick-co-ne-4566-acres-in-1-tract
LOCATION:Merrick County Youth & Ag Education Center, 1784 Fairgrounds Road Central City NE 68826
URL;VALUE=URI:https://ranchandfarmauctions.com/auction-event/merrick-co-ne-4566-acres-in-1-tract
END:VEVENT
END:VCALENDAR
