BEGIN:VCALENDAR
VERSION:2.0
PRODID:-//Ranch and Farm Auctions//Auction Calendar//EN
BEGIN:VEVENT
UID:event-430@ranchandfarmauctions.com
DTSTAMP:20260421T075642Z
DTSTART:20251121T160000Z
DTEND:20251121T170000Z
SUMMARY:Auction for Mills Co IA 51.37± Acres In 2 Tracts by Ranch and Farm Auctions
DESCRIPTION:Auction for Mills Co IA 51.37± Acres In 2 Tracts by Ranch and Farm Auctions.
Type: Live With Online Bidding
Tracts: 2
Location: Bloom Senior Center, 25 N Vine St Glenwood IA 51534
View Auction: https://ranchandfarmauctions.com/auction-event/mills-co-ia-5137-acres-in-2-tracts
LOCATION:Bloom Senior Center, 25 N Vine St Glenwood IA 51534
URL;VALUE=URI:https://ranchandfarmauctions.com/auction-event/mills-co-ia-5137-acres-in-2-tracts
END:VEVENT
END:VCALENDAR
