BEGIN:VCALENDAR
VERSION:2.0
PRODID:-//Ranch and Farm Auctions//Auction Calendar//EN
BEGIN:VEVENT
UID:event-390@ranchandfarmauctions.com
DTSTAMP:20260422T044152Z
DTSTART:20251002T200000Z
DTEND:20251002T210000Z
SUMMARY:Auction for Monroe Co TN 28.11± Acres In 3 Tracts by Ranch and Farm Auctions
DESCRIPTION:Auction for Monroe Co TN 28.11± Acres In 3 Tracts by Ranch and Farm Auctions.
Type: Live With Online Bidding
Tracts: 3
Location: Community Center, 132 Bank St Tellico Plains TN 37385
View Auction: https://ranchandfarmauctions.com/auction-event/monroe-co-tn-2811-acres-in-3-tracts
LOCATION:Community Center, 132 Bank St Tellico Plains TN 37385
URL;VALUE=URI:https://ranchandfarmauctions.com/auction-event/monroe-co-tn-2811-acres-in-3-tracts
END:VEVENT
END:VCALENDAR
