BEGIN:VCALENDAR
VERSION:2.0
PRODID:-//Ranch and Farm Auctions//Auction Calendar//EN
BEGIN:VEVENT
UID:event-502@ranchandfarmauctions.com
DTSTAMP:20260424T022153Z
DTSTART:20260615T160000Z
DTEND:20260615T170000Z
SUMMARY:Auction for Morgan & Sangamon Co IL 239.91± Acres In 3 Tracts by Ranch and Farm Auctions
DESCRIPTION:Auction for Morgan & Sangamon Co IL 239.91± Acres In 3 Tracts by Ranch and Farm Auctions.
Type: Live With Online Bidding
Tracts: 3
Location: American Legion, 136 E. State St Waverly IL 62692
View Auction: https://ranchandfarmauctions.com/auction-event/morgan-sangamon-co-il-23991-acres-in-3-tracts
LOCATION:American Legion, 136 E. State St Waverly IL 62692
URL;VALUE=URI:https://ranchandfarmauctions.com/auction-event/morgan-sangamon-co-il-23991-acres-in-3-tracts
END:VEVENT
END:VCALENDAR
