BEGIN:VCALENDAR
VERSION:2.0
PRODID:-//Ranch and Farm Auctions//Auction Calendar//EN
BEGIN:VEVENT
UID:event-432@ranchandfarmauctions.com
DTSTAMP:20260422T015347Z
DTSTART:20251211T170000Z
DTEND:20251211T180000Z
SUMMARY:Auction for Noxubee Co MS 222.1± Acres In 3 Tracts by Ranch and Farm Auctions
DESCRIPTION:Auction for Noxubee Co MS 222.1± Acres In 3 Tracts by Ranch and Farm Auctions.
Type: Live With Online Bidding
Tracts: 3
Location: Easy Street, 2004 Magnolia Dr Macon MS 39341
View Auction: https://ranchandfarmauctions.com/auction-event/noxubee-co-ms-2221-acres-in-3-tracts
LOCATION:Easy Street, 2004 Magnolia Dr Macon MS 39341
URL;VALUE=URI:https://ranchandfarmauctions.com/auction-event/noxubee-co-ms-2221-acres-in-3-tracts
END:VEVENT
END:VCALENDAR
