BEGIN:VCALENDAR
VERSION:2.0
PRODID:-//Ranch and Farm Auctions//Auction Calendar//EN
BEGIN:VEVENT
UID:event-452@ranchandfarmauctions.com
DTSTAMP:20260422T192938Z
DTSTART:20260216T220000Z
DTEND:20260216T230000Z
SUMMARY:Auction for Oakland Co MI 10.48± Acres In 1 Tract by Ranch and Farm Auctions
DESCRIPTION:Auction for Oakland Co MI 10.48± Acres In 1 Tract by Ranch and Farm Auctions.
Type: Live With Online Bidding
Tracts: 1
Location: Onsite, 155 E Glass Rd Ortonville MI 48462
View Auction: https://ranchandfarmauctions.com/auction-event/oakland-co-mi-1048-acres-in-1-tract
LOCATION:Onsite, 155 E Glass Rd Ortonville MI 48462
URL;VALUE=URI:https://ranchandfarmauctions.com/auction-event/oakland-co-mi-1048-acres-in-1-tract
END:VEVENT
END:VCALENDAR
