BEGIN:VCALENDAR
VERSION:2.0
PRODID:-//Ranch and Farm Auctions//Auction Calendar//EN
BEGIN:VEVENT
UID:event-415@ranchandfarmauctions.com
DTSTAMP:20260421T230851Z
DTSTART:20251202T170000Z
DTEND:20251202T180000Z
SUMMARY:Auction for Pawnee Co NE 320± Acres In 2 Tracts by Ranch and Farm Auctions
DESCRIPTION:Auction for Pawnee Co NE 320± Acres In 2 Tracts by Ranch and Farm Auctions.
Type: Live With Online Bidding
Tracts: 2
Location: Burchard Community Center, 301 Second St Burchard NE 68323
View Auction: https://ranchandfarmauctions.com/auction-event/pawnee-co-ne-320-acres-in-2-tracts
LOCATION:Burchard Community Center, 301 Second St Burchard NE 68323
URL;VALUE=URI:https://ranchandfarmauctions.com/auction-event/pawnee-co-ne-320-acres-in-2-tracts
END:VEVENT
END:VCALENDAR
