BEGIN:VCALENDAR
VERSION:2.0
PRODID:-//Ranch and Farm Auctions//Auction Calendar//EN
BEGIN:VEVENT
UID:event-447@ranchandfarmauctions.com
DTSTAMP:20260423T220233Z
DTSTART:20260130T160000Z
DTEND:20260130T170000Z
SUMMARY:Auction for Pawnee Co NE 78.06± Acres In 1 Tract by Ranch and Farm Auctions
DESCRIPTION:Auction for Pawnee Co NE 78.06± Acres In 1 Tract by Ranch and Farm Auctions.
Type: Live With Online Bidding
Tracts: 1
Location: Burchard Community Center, 301 Second St Burchard NE 68323
View Auction: https://ranchandfarmauctions.com/auction-event/pawnee-co-ne-7806-acres-in-1-tract
LOCATION:Burchard Community Center, 301 Second St Burchard NE 68323
URL;VALUE=URI:https://ranchandfarmauctions.com/auction-event/pawnee-co-ne-7806-acres-in-1-tract
END:VEVENT
END:VCALENDAR
