BEGIN:VCALENDAR
VERSION:2.0
PRODID:-//Ranch and Farm Auctions//Auction Calendar//EN
BEGIN:VEVENT
UID:event-424@ranchandfarmauctions.com
DTSTAMP:20260421T080117Z
DTSTART:20251121T200000Z
DTEND:20251121T210000Z
SUMMARY:Auction for Pottawattamie Co IA 311.10± Acres In 3 Tracts by Ranch and Farm Auctions
DESCRIPTION:Auction for Pottawattamie Co IA 311.10± Acres In 3 Tracts by Ranch and Farm Auctions.
Type: Live With Online Bidding
Tracts: 3
Location: Community Building, 614 Dr. Van Zee Rd Oakland IA 51560
View Auction: https://ranchandfarmauctions.com/auction-event/pottawattamie-co-ia-31110-acres-in-3-tracts
LOCATION:Community Building, 614 Dr. Van Zee Rd Oakland IA 51560
URL;VALUE=URI:https://ranchandfarmauctions.com/auction-event/pottawattamie-co-ia-31110-acres-in-3-tracts
END:VEVENT
END:VCALENDAR
