BEGIN:VCALENDAR
VERSION:2.0
PRODID:-//Ranch and Farm Auctions//Auction Calendar//EN
BEGIN:VEVENT
UID:event-414@ranchandfarmauctions.com
DTSTAMP:20260421T071540Z
DTSTART:20251125T170000Z
DTEND:20251125T180000Z
SUMMARY:Auction for Ray Co MO 204± Acres In 2 Tracts by Ranch and Farm Auctions
DESCRIPTION:Auction for Ray Co MO 204± Acres In 2 Tracts by Ranch and Farm Auctions.
Type: Live With Online Bidding
Tracts: 2
Location: American Legion, 312 Clark St Richmond MO 64085
View Auction: https://ranchandfarmauctions.com/auction-event/ray-co-mo-204-acres-in-2-tracts
LOCATION:American Legion, 312 Clark St Richmond MO 64085
URL;VALUE=URI:https://ranchandfarmauctions.com/auction-event/ray-co-mo-204-acres-in-2-tracts
END:VEVENT
END:VCALENDAR
