BEGIN:VCALENDAR
VERSION:2.0
PRODID:-//Ranch and Farm Auctions//Auction Calendar//EN
BEGIN:VEVENT
UID:event-501@ranchandfarmauctions.com
DTSTAMP:20260422T103329Z
DTSTART:20260612T160000Z
DTEND:20260612T170000Z
SUMMARY:Auction for Redwood Co MN 80.5± Acres In 1 Tract by Ranch and Farm Auctions
DESCRIPTION:Auction for Redwood Co MN 80.5± Acres In 1 Tract by Ranch and Farm Auctions.
Type: Live With Online Bidding
Tracts: 1
Location: The Caboose, 1045 Craig Ave Tracy MN 56175
View Auction: https://ranchandfarmauctions.com/auction-event/redwood-co-mn-805-acres-in-1-tract
LOCATION:The Caboose, 1045 Craig Ave Tracy MN 56175
URL;VALUE=URI:https://ranchandfarmauctions.com/auction-event/redwood-co-mn-805-acres-in-1-tract
END:VEVENT
END:VCALENDAR
