BEGIN:VCALENDAR
VERSION:2.0
PRODID:-//Ranch and Farm Auctions//Auction Calendar//EN
BEGIN:VEVENT
UID:event-399@ranchandfarmauctions.com
DTSTAMP:20260421T102151Z
DTSTART:20251027T190000Z
DTEND:20251027T200000Z
SUMMARY:Auction for Richardson Co NE 119.31± Acres in 2 Tracts by Ranch and Farm Auctions
DESCRIPTION:Auction for Richardson Co NE 119.31± Acres in 2 Tracts by Ranch and Farm Auctions.
Type: Live With Online Bidding
Tracts: 2
Location: Elks Lodge, 1417 Stone Street Falls City NE 68355
View Auction: https://ranchandfarmauctions.com/auction-event/richardson-co-ne-11931-acres-in-2-tracts
LOCATION:Elks Lodge, 1417 Stone Street Falls City NE 68355
URL;VALUE=URI:https://ranchandfarmauctions.com/auction-event/richardson-co-ne-11931-acres-in-2-tracts
END:VEVENT
END:VCALENDAR
