BEGIN:VCALENDAR
VERSION:2.0
PRODID:-//Ranch and Farm Auctions//Auction Calendar//EN
BEGIN:VEVENT
UID:event-420@ranchandfarmauctions.com
DTSTAMP:20260421T080209Z
DTSTART:20251110T190000Z
DTEND:20251110T200000Z
SUMMARY:Auction for Rock Island Co IL 196.69± Acres In 4 Tracts by Ranch and Farm Auctions
DESCRIPTION:Auction for Rock Island Co IL 196.69± Acres In 4 Tracts by Ranch and Farm Auctions.
Type: Live With Online Bidding
Tracts: 4
Location: Sherrard Fire Department, 101 E 1st St Sherrard IL 61281
View Auction: https://ranchandfarmauctions.com/auction-event/rock-island-co-il-19669-acres-in-4-tracts
LOCATION:Sherrard Fire Department, 101 E 1st St Sherrard IL 61281
URL;VALUE=URI:https://ranchandfarmauctions.com/auction-event/rock-island-co-il-19669-acres-in-4-tracts
END:VEVENT
END:VCALENDAR
