BEGIN:VCALENDAR
VERSION:2.0
PRODID:-//Ranch and Farm Auctions//Auction Calendar//EN
BEGIN:VEVENT
UID:event-463@ranchandfarmauctions.com
DTSTAMP:20260423T093819Z
DTSTART:20260217T150000Z
DTEND:20260217T160000Z
SUMMARY:Auction for Sanilac Co MI 32± Acres In 1 Tract by Ranch and Farm Auctions
DESCRIPTION:Auction for Sanilac Co MI 32± Acres In 1 Tract by Ranch and Farm Auctions.
Type: Live With Online Bidding
Tracts: 1
Location: New Grounds Coffee ‘N More, 3474 Main Street Deckerville MI 48427
View Auction: https://ranchandfarmauctions.com/auction-event/sanilac-co-mi-32-acres-in-1-tract
LOCATION:New Grounds Coffee ‘N More, 3474 Main Street Deckerville MI 48427
URL;VALUE=URI:https://ranchandfarmauctions.com/auction-event/sanilac-co-mi-32-acres-in-1-tract
END:VEVENT
END:VCALENDAR
