BEGIN:VCALENDAR
VERSION:2.0
PRODID:-//Ranch and Farm Auctions//Auction Calendar//EN
BEGIN:VEVENT
UID:event-405@ranchandfarmauctions.com
DTSTAMP:20260421T225307Z
DTSTART:20251021T000000Z
DTEND:20251021T010000Z
SUMMARY:Auction for Smith Co KS 7.2± Acres In 1 Tract by Ranch and Farm Auctions
DESCRIPTION:Auction for Smith Co KS 7.2± Acres In 1 Tract by Ranch and Farm Auctions.
Type: Online
Tracts: 1
Location: Online Only, KS 66967
View Auction: https://ranchandfarmauctions.com/auction-event/smith-co-ks-72-acres-in-1-tract
LOCATION:Online Only, KS 66967
URL;VALUE=URI:https://ranchandfarmauctions.com/auction-event/smith-co-ks-72-acres-in-1-tract
END:VEVENT
END:VCALENDAR
