BEGIN:VCALENDAR
VERSION:2.0
PRODID:-//Ranch and Farm Auctions//Auction Calendar//EN
BEGIN:VEVENT
UID:event-435@ranchandfarmauctions.com
DTSTAMP:20260421T075939Z
DTSTART:20251210T190000Z
DTEND:20251210T200000Z
SUMMARY:Auction for Stafford Co KS 312.61± Acres In 2 Tracts by Ranch and Farm Auctions
DESCRIPTION:Auction for Stafford Co KS 312.61± Acres In 2 Tracts by Ranch and Farm Auctions.
Type: Live With Online Bidding
Tracts: 2
Location: Pratt County 4-H Events Center, 81 Lake Rd Pratt KS 67124
View Auction: https://ranchandfarmauctions.com/auction-event/stafford-co-ks-31261-acres-in-2-tracts
LOCATION:Pratt County 4-H Events Center, 81 Lake Rd Pratt KS 67124
URL;VALUE=URI:https://ranchandfarmauctions.com/auction-event/stafford-co-ks-31261-acres-in-2-tracts
END:VEVENT
END:VCALENDAR
