BEGIN:VCALENDAR
VERSION:2.0
PRODID:-//Ranch and Farm Auctions//Auction Calendar//EN
BEGIN:VEVENT
UID:event-418@ranchandfarmauctions.com
DTSTAMP:20260421T114447Z
DTSTART:20251108T200000Z
DTEND:20251108T210000Z
SUMMARY:Auction for Sumner Co TN 86.89± Acres In 12 Tracts by Ranch and Farm Auctions
DESCRIPTION:Auction for Sumner Co TN 86.89± Acres In 12 Tracts by Ranch and Farm Auctions.
Type: Live With Online Bidding
Tracts: 12
Location: VFW, 2605 Epperson Springs Road Westmoreland TN 37186
View Auction: https://ranchandfarmauctions.com/auction-event/sumner-co-tn-8689-acres-in-12-tracts
LOCATION:VFW, 2605 Epperson Springs Road Westmoreland TN 37186
URL;VALUE=URI:https://ranchandfarmauctions.com/auction-event/sumner-co-tn-8689-acres-in-12-tracts
END:VEVENT
END:VCALENDAR
