BEGIN:VCALENDAR
VERSION:2.0
PRODID:-//Ranch and Farm Auctions//Auction Calendar//EN
BEGIN:VEVENT
UID:event-382@ranchandfarmauctions.com
DTSTAMP:20260423T132519Z
DTSTART:20250916T210000Z
DTEND:20250916T220000Z
SUMMARY:Auction for Union Co & Lafayette Co AR 1733.76± Acres In 34 Tracts by Ranch and Farm Auctions
DESCRIPTION:Auction for Union Co & Lafayette Co AR 1733.76± Acres In 34 Tracts by Ranch and Farm Auctions.
Type: Live With Online Bidding
Tracts: 34
Location: SOLD PRE-AUCTION, 4087 Smackover Hwy Smackover AR 71762
View Auction: https://ranchandfarmauctions.com/auction-event/union-co-lafayette-co-ar-173376-acres-in-34-tracts
LOCATION:SOLD PRE-AUCTION, 4087 Smackover Hwy Smackover AR 71762
URL;VALUE=URI:https://ranchandfarmauctions.com/auction-event/union-co-lafayette-co-ar-173376-acres-in-34-tracts
END:VEVENT
END:VCALENDAR
