BEGIN:VCALENDAR
VERSION:2.0
PRODID:-//Ranch and Farm Auctions//Auction Calendar//EN
BEGIN:VEVENT
UID:event-182@ranchandfarmauctions.com
DTSTAMP:20260423T093948Z
DTSTART:20250617T160000Z
DTEND:20250617T170000Z
SUMMARY:Auction for Walsh Co ND 158± Acres In 1 Tract by Ranch and Farm Auctions
DESCRIPTION:Auction for Walsh Co ND 158± Acres In 1 Tract by Ranch and Farm Auctions.
Type: Live With Online Bidding
Tracts: 1
Location: American Legion, 108 5th Street E Park River ND 58270
View Auction: https://ranchandfarmauctions.com/auction-event/walsh-co-nd-158-acres-in-1-tract
LOCATION:American Legion, 108 5th Street E Park River ND 58270
URL;VALUE=URI:https://ranchandfarmauctions.com/auction-event/walsh-co-nd-158-acres-in-1-tract
END:VEVENT
END:VCALENDAR
