BEGIN:VCALENDAR
VERSION:2.0
PRODID:-//Ranch and Farm Auctions//Auction Calendar//EN
BEGIN:VEVENT
UID:event-404@ranchandfarmauctions.com
DTSTAMP:20260421T080118Z
DTSTART:20251106T190000Z
DTEND:20251106T200000Z
SUMMARY:Auction for Yates Co NY 504.2 ± Acres In 6 Tracts by Ranch and Farm Auctions
DESCRIPTION:Auction for Yates Co NY 504.2 ± Acres In 6 Tracts by Ranch and Farm Auctions.
Type: Live With Online Bidding
Tracts: 6
Location: Finger Lakes Produce Auction, 3691 State Route 14A Penn Yan NY 14527
View Auction: https://ranchandfarmauctions.com/auction-event/yates-co-ny-5042-acres-in-6-tracts
LOCATION:Finger Lakes Produce Auction, 3691 State Route 14A Penn Yan NY 14527
URL;VALUE=URI:https://ranchandfarmauctions.com/auction-event/yates-co-ny-5042-acres-in-6-tracts
END:VEVENT
END:VCALENDAR
